BEGIN:VCALENDAR
VERSION:2.0
PRODID:-//Tea Tavern - ECPv6.15.20//NONSGML v1.0//EN
CALSCALE:GREGORIAN
METHOD:PUBLISH
X-WR-CALNAME:Tea Tavern
X-ORIGINAL-URL:https://tea-tavern.com
X-WR-CALDESC:Events for Tea Tavern
REFRESH-INTERVAL;VALUE=DURATION:PT1H
X-Robots-Tag:noindex
X-PUBLISHED-TTL:PT1H
BEGIN:VTIMEZONE
TZID:America/Phoenix
BEGIN:STANDARD
TZOFFSETFROM:-0700
TZOFFSETTO:-0700
TZNAME:MST
DTSTART:20250101T000000
END:STANDARD
END:VTIMEZONE
BEGIN:VEVENT
DTSTART;TZID=America/Phoenix:20260422T120000
DTEND;TZID=America/Phoenix:20260422T150000
DTSTAMP:20260421T170920
CREATED:20260412T185121Z
LAST-MODIFIED:20260421T080102Z
UID:5142-1776859200-1776870000@tea-tavern.com
SUMMARY:Gongfu Tea Tasting at HeatSync Labs
DESCRIPTION:Take a tea break from your hardware\, software or maker work with the Traveling Tea Tavern! Gather round and learn the art of Gongfu tea.
URL:https://tea-tavern.com/event/gongfu-tea-tasting-at-heatsync-labs-39/
LOCATION:HeatSync Labs\, 108 West Main Street\, Mesa\, AZ\, 85201\, United States
CATEGORIES:Tea Tavern Events
ATTACH;FMTTYPE=image/jpeg:https://tea-tavern.com/wp-content/uploads/2026/02/cfeb64bee65143c318a0605b9d7c11de.jpg
END:VEVENT
BEGIN:VEVENT
DTSTART;TZID=America/Phoenix:20260422T180000
DTEND;TZID=America/Phoenix:20260422T213000
DTSTAMP:20260421T170920
CREATED:20260412T185121Z
LAST-MODIFIED:20260414T191555Z
UID:5143-1776880800-1776893400@tea-tavern.com
SUMMARY:Gongfu Tea Tasting at HeatSync Labs
DESCRIPTION:Take a tea break from your hardware\, software or maker work with the Traveling Tea Tavern! Gather round and learn the art of Gongfu tea.
URL:https://tea-tavern.com/event/gongfu-tea-tasting-at-heatsync-labs-40/
LOCATION:HeatSync Labs\, 108 West Main Street\, Mesa\, AZ\, 85201\, United States
CATEGORIES:Tea Tavern Events
ATTACH;FMTTYPE=image/jpeg:https://tea-tavern.com/wp-content/uploads/2026/02/cfeb64bee65143c318a0605b9d7c11de.jpg
END:VEVENT
BEGIN:VEVENT
DTSTART;TZID=America/Phoenix:20260429T120000
DTEND;TZID=America/Phoenix:20260429T150000
DTSTAMP:20260421T170920
CREATED:20260412T185121Z
LAST-MODIFIED:20260421T080102Z
UID:5144-1777464000-1777474800@tea-tavern.com
SUMMARY:Gongfu Tea Tasting at HeatSync Labs
DESCRIPTION:Take a tea break from your hardware\, software or maker work with the Traveling Tea Tavern! Gather round and learn the art of Gongfu tea.
URL:https://tea-tavern.com/event/gongfu-tea-tasting-at-heatsync-labs-41/
LOCATION:HeatSync Labs\, 108 West Main Street\, Mesa\, AZ\, 85201\, United States
CATEGORIES:Tea Tavern Events
ATTACH;FMTTYPE=image/jpeg:https://tea-tavern.com/wp-content/uploads/2026/02/cfeb64bee65143c318a0605b9d7c11de.jpg
END:VEVENT
BEGIN:VEVENT
DTSTART;TZID=America/Phoenix:20260429T180000
DTEND;TZID=America/Phoenix:20260429T213000
DTSTAMP:20260421T170920
CREATED:20260412T185122Z
LAST-MODIFIED:20260421T080102Z
UID:5145-1777485600-1777498200@tea-tavern.com
SUMMARY:Gongfu Tea Tasting at HeatSync Labs
DESCRIPTION:Take a tea break from your hardware\, software or maker work with the Traveling Tea Tavern! Gather round and learn the art of Gongfu tea.
URL:https://tea-tavern.com/event/gongfu-tea-tasting-at-heatsync-labs-42/
LOCATION:HeatSync Labs\, 108 West Main Street\, Mesa\, AZ\, 85201\, United States
CATEGORIES:Tea Tavern Events
ATTACH;FMTTYPE=image/jpeg:https://tea-tavern.com/wp-content/uploads/2026/02/cfeb64bee65143c318a0605b9d7c11de.jpg
END:VEVENT
BEGIN:VEVENT
DTSTART;TZID=America/Phoenix:20260506T120000
DTEND;TZID=America/Phoenix:20260506T150000
DTSTAMP:20260421T170920
CREATED:20260412T185122Z
LAST-MODIFIED:20260421T080102Z
UID:5146-1778068800-1778079600@tea-tavern.com
SUMMARY:Gongfu Tea Tasting at HeatSync Labs
DESCRIPTION:Take a tea break from your hardware\, software or maker work with the Traveling Tea Tavern! Gather round and learn the art of Gongfu tea.
URL:https://tea-tavern.com/event/gongfu-tea-tasting-at-heatsync-labs-43/
LOCATION:HeatSync Labs\, 108 West Main Street\, Mesa\, AZ\, 85201\, United States
CATEGORIES:Tea Tavern Events
ATTACH;FMTTYPE=image/jpeg:https://tea-tavern.com/wp-content/uploads/2026/02/cfeb64bee65143c318a0605b9d7c11de.jpg
END:VEVENT
BEGIN:VEVENT
DTSTART;TZID=America/Phoenix:20260506T180000
DTEND;TZID=America/Phoenix:20260506T213000
DTSTAMP:20260421T170920
CREATED:20260412T185122Z
LAST-MODIFIED:20260421T080102Z
UID:5147-1778090400-1778103000@tea-tavern.com
SUMMARY:Gongfu Tea Tasting at HeatSync Labs
DESCRIPTION:Take a tea break from your hardware\, software or maker work with the Traveling Tea Tavern! Gather round and learn the art of Gongfu tea.
URL:https://tea-tavern.com/event/gongfu-tea-tasting-at-heatsync-labs-44/
LOCATION:HeatSync Labs\, 108 West Main Street\, Mesa\, AZ\, 85201\, United States
CATEGORIES:Tea Tavern Events
ATTACH;FMTTYPE=image/jpeg:https://tea-tavern.com/wp-content/uploads/2026/02/cfeb64bee65143c318a0605b9d7c11de.jpg
END:VEVENT
BEGIN:VEVENT
DTSTART;TZID=America/Phoenix:20260513T120000
DTEND;TZID=America/Phoenix:20260513T150000
DTSTAMP:20260421T170920
CREATED:20260412T185122Z
LAST-MODIFIED:20260421T080102Z
UID:5148-1778673600-1778684400@tea-tavern.com
SUMMARY:Gongfu Tea Tasting at HeatSync Labs
DESCRIPTION:Take a tea break from your hardware\, software or maker work with the Traveling Tea Tavern! Gather round and learn the art of Gongfu tea.
URL:https://tea-tavern.com/event/gongfu-tea-tasting-at-heatsync-labs-45/
LOCATION:HeatSync Labs\, 108 West Main Street\, Mesa\, AZ\, 85201\, United States
CATEGORIES:Tea Tavern Events
ATTACH;FMTTYPE=image/jpeg:https://tea-tavern.com/wp-content/uploads/2026/02/cfeb64bee65143c318a0605b9d7c11de.jpg
END:VEVENT
BEGIN:VEVENT
DTSTART;TZID=America/Phoenix:20260513T180000
DTEND;TZID=America/Phoenix:20260513T213000
DTSTAMP:20260421T170920
CREATED:20260412T185122Z
LAST-MODIFIED:20260421T080102Z
UID:5149-1778695200-1778707800@tea-tavern.com
SUMMARY:Gongfu Tea Tasting at HeatSync Labs
DESCRIPTION:Take a tea break from your hardware\, software or maker work with the Traveling Tea Tavern! Gather round and learn the art of Gongfu tea.
URL:https://tea-tavern.com/event/gongfu-tea-tasting-at-heatsync-labs-46/
LOCATION:HeatSync Labs\, 108 West Main Street\, Mesa\, AZ\, 85201\, United States
CATEGORIES:Tea Tavern Events
ATTACH;FMTTYPE=image/jpeg:https://tea-tavern.com/wp-content/uploads/2026/02/cfeb64bee65143c318a0605b9d7c11de.jpg
END:VEVENT
BEGIN:VEVENT
DTSTART;TZID=America/Phoenix:20260520T120000
DTEND;TZID=America/Phoenix:20260520T150000
DTSTAMP:20260421T170920
CREATED:20260412T185135Z
LAST-MODIFIED:20260421T080102Z
UID:5150-1779278400-1779289200@tea-tavern.com
SUMMARY:Gongfu Tea Tasting at HeatSync Labs
DESCRIPTION:Take a tea break from your hardware\, software or maker work with the Traveling Tea Tavern! Gather round and learn the art of Gongfu tea.
URL:https://tea-tavern.com/event/gongfu-tea-tasting-at-heatsync-labs-47/
LOCATION:HeatSync Labs\, 108 West Main Street\, Mesa\, AZ\, 85201\, United States
CATEGORIES:Tea Tavern Events
ATTACH;FMTTYPE=image/jpeg:https://tea-tavern.com/wp-content/uploads/2026/02/cfeb64bee65143c318a0605b9d7c11de.jpg
END:VEVENT
BEGIN:VEVENT
DTSTART;TZID=America/Phoenix:20260520T180000
DTEND;TZID=America/Phoenix:20260520T213000
DTSTAMP:20260421T170920
CREATED:20260412T185135Z
LAST-MODIFIED:20260421T080103Z
UID:5151-1779300000-1779312600@tea-tavern.com
SUMMARY:Gongfu Tea Tasting at HeatSync Labs
DESCRIPTION:Take a tea break from your hardware\, software or maker work with the Traveling Tea Tavern! Gather round and learn the art of Gongfu tea.
URL:https://tea-tavern.com/event/gongfu-tea-tasting-at-heatsync-labs-48/
LOCATION:HeatSync Labs\, 108 West Main Street\, Mesa\, AZ\, 85201\, United States
CATEGORIES:Tea Tavern Events
ATTACH;FMTTYPE=image/jpeg:https://tea-tavern.com/wp-content/uploads/2026/02/cfeb64bee65143c318a0605b9d7c11de.jpg
END:VEVENT
BEGIN:VEVENT
DTSTART;TZID=America/Phoenix:20260527T120000
DTEND;TZID=America/Phoenix:20260527T150000
DTSTAMP:20260421T170920
CREATED:20260412T185135Z
LAST-MODIFIED:20260421T080103Z
UID:5152-1779883200-1779894000@tea-tavern.com
SUMMARY:Gongfu Tea Tasting at HeatSync Labs
DESCRIPTION:Take a tea break from your hardware\, software or maker work with the Traveling Tea Tavern! Gather round and learn the art of Gongfu tea.
URL:https://tea-tavern.com/event/gongfu-tea-tasting-at-heatsync-labs-49/
LOCATION:HeatSync Labs\, 108 West Main Street\, Mesa\, AZ\, 85201\, United States
CATEGORIES:Tea Tavern Events
ATTACH;FMTTYPE=image/jpeg:https://tea-tavern.com/wp-content/uploads/2026/02/cfeb64bee65143c318a0605b9d7c11de.jpg
END:VEVENT
BEGIN:VEVENT
DTSTART;TZID=America/Phoenix:20260527T180000
DTEND;TZID=America/Phoenix:20260527T213000
DTSTAMP:20260421T170920
CREATED:20260412T185135Z
LAST-MODIFIED:20260421T080100Z
UID:5153-1779904800-1779917400@tea-tavern.com
SUMMARY:Gongfu Tea Tasting at HeatSync Labs
DESCRIPTION:Take a tea break from your hardware\, software or maker work with the Traveling Tea Tavern! Gather round and learn the art of Gongfu tea.
URL:https://tea-tavern.com/event/gongfu-tea-tasting-at-heatsync-labs-50/
LOCATION:HeatSync Labs\, 108 West Main Street\, Mesa\, AZ\, 85201\, United States
CATEGORIES:Tea Tavern Events
ATTACH;FMTTYPE=image/jpeg:https://tea-tavern.com/wp-content/uploads/2026/02/cfeb64bee65143c318a0605b9d7c11de.jpg
END:VEVENT
BEGIN:VEVENT
DTSTART;TZID=America/Phoenix:20260603T120000
DTEND;TZID=America/Phoenix:20260603T150000
DTSTAMP:20260421T170920
CREATED:20260412T185136Z
LAST-MODIFIED:20260421T080101Z
UID:5154-1780488000-1780498800@tea-tavern.com
SUMMARY:Gongfu Tea Tasting at HeatSync Labs
DESCRIPTION:Take a tea break from your hardware\, software or maker work with the Traveling Tea Tavern! Gather round and learn the art of Gongfu tea.
URL:https://tea-tavern.com/event/gongfu-tea-tasting-at-heatsync-labs-51/
LOCATION:HeatSync Labs\, 108 West Main Street\, Mesa\, AZ\, 85201\, United States
CATEGORIES:Tea Tavern Events
ATTACH;FMTTYPE=image/jpeg:https://tea-tavern.com/wp-content/uploads/2026/02/cfeb64bee65143c318a0605b9d7c11de.jpg
END:VEVENT
BEGIN:VEVENT
DTSTART;TZID=America/Phoenix:20260603T180000
DTEND;TZID=America/Phoenix:20260603T213000
DTSTAMP:20260421T170920
CREATED:20260412T185136Z
LAST-MODIFIED:20260421T080101Z
UID:5155-1780509600-1780522200@tea-tavern.com
SUMMARY:Gongfu Tea Tasting at HeatSync Labs
DESCRIPTION:Take a tea break from your hardware\, software or maker work with the Traveling Tea Tavern! Gather round and learn the art of Gongfu tea.
URL:https://tea-tavern.com/event/gongfu-tea-tasting-at-heatsync-labs-52/
LOCATION:HeatSync Labs\, 108 West Main Street\, Mesa\, AZ\, 85201\, United States
CATEGORIES:Tea Tavern Events
ATTACH;FMTTYPE=image/jpeg:https://tea-tavern.com/wp-content/uploads/2026/02/cfeb64bee65143c318a0605b9d7c11de.jpg
END:VEVENT
BEGIN:VEVENT
DTSTART;TZID=America/Phoenix:20260610T120000
DTEND;TZID=America/Phoenix:20260610T150000
DTSTAMP:20260421T170920
CREATED:20260412T185136Z
LAST-MODIFIED:20260421T080101Z
UID:5156-1781092800-1781103600@tea-tavern.com
SUMMARY:Gongfu Tea Tasting at HeatSync Labs
DESCRIPTION:Take a tea break from your hardware\, software or maker work with the Traveling Tea Tavern! Gather round and learn the art of Gongfu tea.
URL:https://tea-tavern.com/event/gongfu-tea-tasting-at-heatsync-labs-53/
LOCATION:HeatSync Labs\, 108 West Main Street\, Mesa\, AZ\, 85201\, United States
CATEGORIES:Tea Tavern Events
ATTACH;FMTTYPE=image/jpeg:https://tea-tavern.com/wp-content/uploads/2026/02/cfeb64bee65143c318a0605b9d7c11de.jpg
END:VEVENT
BEGIN:VEVENT
DTSTART;TZID=America/Phoenix:20260610T180000
DTEND;TZID=America/Phoenix:20260610T213000
DTSTAMP:20260421T170920
CREATED:20260412T185136Z
LAST-MODIFIED:20260421T080101Z
UID:5157-1781114400-1781127000@tea-tavern.com
SUMMARY:Gongfu Tea Tasting at HeatSync Labs
DESCRIPTION:Take a tea break from your hardware\, software or maker work with the Traveling Tea Tavern! Gather round and learn the art of Gongfu tea.
URL:https://tea-tavern.com/event/gongfu-tea-tasting-at-heatsync-labs-54/
LOCATION:HeatSync Labs\, 108 West Main Street\, Mesa\, AZ\, 85201\, United States
CATEGORIES:Tea Tavern Events
ATTACH;FMTTYPE=image/jpeg:https://tea-tavern.com/wp-content/uploads/2026/02/cfeb64bee65143c318a0605b9d7c11de.jpg
END:VEVENT
BEGIN:VEVENT
DTSTART;TZID=America/Phoenix:20260617T120000
DTEND;TZID=America/Phoenix:20260617T150000
DTSTAMP:20260421T170920
CREATED:20260412T185136Z
LAST-MODIFIED:20260421T080101Z
UID:5158-1781697600-1781708400@tea-tavern.com
SUMMARY:Gongfu Tea Tasting at HeatSync Labs
DESCRIPTION:Take a tea break from your hardware\, software or maker work with the Traveling Tea Tavern! Gather round and learn the art of Gongfu tea.
URL:https://tea-tavern.com/event/gongfu-tea-tasting-at-heatsync-labs-55/
LOCATION:HeatSync Labs\, 108 West Main Street\, Mesa\, AZ\, 85201\, United States
CATEGORIES:Tea Tavern Events
ATTACH;FMTTYPE=image/jpeg:https://tea-tavern.com/wp-content/uploads/2026/02/cfeb64bee65143c318a0605b9d7c11de.jpg
END:VEVENT
BEGIN:VEVENT
DTSTART;TZID=America/Phoenix:20260617T180000
DTEND;TZID=America/Phoenix:20260617T213000
DTSTAMP:20260421T170920
CREATED:20260412T185136Z
LAST-MODIFIED:20260421T080101Z
UID:5159-1781719200-1781731800@tea-tavern.com
SUMMARY:Gongfu Tea Tasting at HeatSync Labs
DESCRIPTION:Take a tea break from your hardware\, software or maker work with the Traveling Tea Tavern! Gather round and learn the art of Gongfu tea.
URL:https://tea-tavern.com/event/gongfu-tea-tasting-at-heatsync-labs-56/
LOCATION:HeatSync Labs\, 108 West Main Street\, Mesa\, AZ\, 85201\, United States
CATEGORIES:Tea Tavern Events
ATTACH;FMTTYPE=image/jpeg:https://tea-tavern.com/wp-content/uploads/2026/02/cfeb64bee65143c318a0605b9d7c11de.jpg
END:VEVENT
BEGIN:VEVENT
DTSTART;TZID=America/Phoenix:20260624T120000
DTEND;TZID=America/Phoenix:20260624T150000
DTSTAMP:20260421T170920
CREATED:20260412T185148Z
LAST-MODIFIED:20260421T080101Z
UID:5160-1782302400-1782313200@tea-tavern.com
SUMMARY:Gongfu Tea Tasting at HeatSync Labs
DESCRIPTION:Take a tea break from your hardware\, software or maker work with the Traveling Tea Tavern! Gather round and learn the art of Gongfu tea.
URL:https://tea-tavern.com/event/gongfu-tea-tasting-at-heatsync-labs-57/
LOCATION:HeatSync Labs\, 108 West Main Street\, Mesa\, AZ\, 85201\, United States
CATEGORIES:Tea Tavern Events
ATTACH;FMTTYPE=image/jpeg:https://tea-tavern.com/wp-content/uploads/2026/02/cfeb64bee65143c318a0605b9d7c11de.jpg
END:VEVENT
BEGIN:VEVENT
DTSTART;TZID=America/Phoenix:20260624T180000
DTEND;TZID=America/Phoenix:20260624T213000
DTSTAMP:20260421T170920
CREATED:20260412T185149Z
LAST-MODIFIED:20260421T080101Z
UID:5161-1782324000-1782336600@tea-tavern.com
SUMMARY:Gongfu Tea Tasting at HeatSync Labs
DESCRIPTION:Take a tea break from your hardware\, software or maker work with the Traveling Tea Tavern! Gather round and learn the art of Gongfu tea.
URL:https://tea-tavern.com/event/gongfu-tea-tasting-at-heatsync-labs-58/
LOCATION:HeatSync Labs\, 108 West Main Street\, Mesa\, AZ\, 85201\, United States
CATEGORIES:Tea Tavern Events
ATTACH;FMTTYPE=image/jpeg:https://tea-tavern.com/wp-content/uploads/2026/02/cfeb64bee65143c318a0605b9d7c11de.jpg
END:VEVENT
BEGIN:VEVENT
DTSTART;TZID=America/Phoenix:20260701T120000
DTEND;TZID=America/Phoenix:20260701T150000
DTSTAMP:20260421T170920
CREATED:20260412T185149Z
LAST-MODIFIED:20260421T080101Z
UID:5162-1782907200-1782918000@tea-tavern.com
SUMMARY:Gongfu Tea Tasting at HeatSync Labs
DESCRIPTION:Take a tea break from your hardware\, software or maker work with the Traveling Tea Tavern! Gather round and learn the art of Gongfu tea.
URL:https://tea-tavern.com/event/gongfu-tea-tasting-at-heatsync-labs-59/
LOCATION:HeatSync Labs\, 108 West Main Street\, Mesa\, AZ\, 85201\, United States
CATEGORIES:Tea Tavern Events
ATTACH;FMTTYPE=image/jpeg:https://tea-tavern.com/wp-content/uploads/2026/02/cfeb64bee65143c318a0605b9d7c11de.jpg
END:VEVENT
BEGIN:VEVENT
DTSTART;TZID=America/Phoenix:20260701T180000
DTEND;TZID=America/Phoenix:20260701T213000
DTSTAMP:20260421T170920
CREATED:20260412T185149Z
LAST-MODIFIED:20260421T080101Z
UID:5163-1782928800-1782941400@tea-tavern.com
SUMMARY:Gongfu Tea Tasting at HeatSync Labs
DESCRIPTION:Take a tea break from your hardware\, software or maker work with the Traveling Tea Tavern! Gather round and learn the art of Gongfu tea.
URL:https://tea-tavern.com/event/gongfu-tea-tasting-at-heatsync-labs-60/
LOCATION:HeatSync Labs\, 108 West Main Street\, Mesa\, AZ\, 85201\, United States
CATEGORIES:Tea Tavern Events
ATTACH;FMTTYPE=image/jpeg:https://tea-tavern.com/wp-content/uploads/2026/02/cfeb64bee65143c318a0605b9d7c11de.jpg
END:VEVENT
BEGIN:VEVENT
DTSTART;TZID=America/Phoenix:20260708T120000
DTEND;TZID=America/Phoenix:20260708T150000
DTSTAMP:20260421T170920
CREATED:20260412T185149Z
LAST-MODIFIED:20260421T080101Z
UID:5164-1783512000-1783522800@tea-tavern.com
SUMMARY:Gongfu Tea Tasting at HeatSync Labs
DESCRIPTION:Take a tea break from your hardware\, software or maker work with the Traveling Tea Tavern! Gather round and learn the art of Gongfu tea.
URL:https://tea-tavern.com/event/gongfu-tea-tasting-at-heatsync-labs-61/
LOCATION:HeatSync Labs\, 108 West Main Street\, Mesa\, AZ\, 85201\, United States
CATEGORIES:Tea Tavern Events
ATTACH;FMTTYPE=image/jpeg:https://tea-tavern.com/wp-content/uploads/2026/02/cfeb64bee65143c318a0605b9d7c11de.jpg
END:VEVENT
BEGIN:VEVENT
DTSTART;TZID=America/Phoenix:20260708T180000
DTEND;TZID=America/Phoenix:20260708T213000
DTSTAMP:20260421T170920
CREATED:20260412T185149Z
LAST-MODIFIED:20260421T080102Z
UID:5165-1783533600-1783546200@tea-tavern.com
SUMMARY:Gongfu Tea Tasting at HeatSync Labs
DESCRIPTION:Take a tea break from your hardware\, software or maker work with the Traveling Tea Tavern! Gather round and learn the art of Gongfu tea.
URL:https://tea-tavern.com/event/gongfu-tea-tasting-at-heatsync-labs-62/
LOCATION:HeatSync Labs\, 108 West Main Street\, Mesa\, AZ\, 85201\, United States
CATEGORIES:Tea Tavern Events
ATTACH;FMTTYPE=image/jpeg:https://tea-tavern.com/wp-content/uploads/2026/02/cfeb64bee65143c318a0605b9d7c11de.jpg
END:VEVENT
BEGIN:VEVENT
DTSTART;TZID=America/Phoenix:20260715T120000
DTEND;TZID=America/Phoenix:20260715T150000
DTSTAMP:20260421T170920
CREATED:20260412T185149Z
LAST-MODIFIED:20260421T080102Z
UID:5166-1784116800-1784127600@tea-tavern.com
SUMMARY:Gongfu Tea Tasting at HeatSync Labs
DESCRIPTION:Take a tea break from your hardware\, software or maker work with the Traveling Tea Tavern! Gather round and learn the art of Gongfu tea.
URL:https://tea-tavern.com/event/gongfu-tea-tasting-at-heatsync-labs-63/
LOCATION:HeatSync Labs\, 108 West Main Street\, Mesa\, AZ\, 85201\, United States
CATEGORIES:Tea Tavern Events
ATTACH;FMTTYPE=image/jpeg:https://tea-tavern.com/wp-content/uploads/2026/02/cfeb64bee65143c318a0605b9d7c11de.jpg
END:VEVENT
BEGIN:VEVENT
DTSTART;TZID=America/Phoenix:20260715T180000
DTEND;TZID=America/Phoenix:20260715T213000
DTSTAMP:20260421T170920
CREATED:20260412T185150Z
LAST-MODIFIED:20260421T080102Z
UID:5167-1784138400-1784151000@tea-tavern.com
SUMMARY:Gongfu Tea Tasting at HeatSync Labs
DESCRIPTION:Take a tea break from your hardware\, software or maker work with the Traveling Tea Tavern! Gather round and learn the art of Gongfu tea.
URL:https://tea-tavern.com/event/gongfu-tea-tasting-at-heatsync-labs-64/
LOCATION:HeatSync Labs\, 108 West Main Street\, Mesa\, AZ\, 85201\, United States
CATEGORIES:Tea Tavern Events
ATTACH;FMTTYPE=image/jpeg:https://tea-tavern.com/wp-content/uploads/2026/02/cfeb64bee65143c318a0605b9d7c11de.jpg
END:VEVENT
BEGIN:VEVENT
DTSTART;TZID=America/Phoenix:20260722T120000
DTEND;TZID=America/Phoenix:20260722T150000
DTSTAMP:20260421T170920
CREATED:20260412T185150Z
LAST-MODIFIED:20260421T080102Z
UID:5168-1784721600-1784732400@tea-tavern.com
SUMMARY:Gongfu Tea Tasting at HeatSync Labs
DESCRIPTION:Take a tea break from your hardware\, software or maker work with the Traveling Tea Tavern! Gather round and learn the art of Gongfu tea.
URL:https://tea-tavern.com/event/gongfu-tea-tasting-at-heatsync-labs-65/
LOCATION:HeatSync Labs\, 108 West Main Street\, Mesa\, AZ\, 85201\, United States
CATEGORIES:Tea Tavern Events
ATTACH;FMTTYPE=image/jpeg:https://tea-tavern.com/wp-content/uploads/2026/02/cfeb64bee65143c318a0605b9d7c11de.jpg
END:VEVENT
BEGIN:VEVENT
DTSTART;TZID=America/Phoenix:20260722T180000
DTEND;TZID=America/Phoenix:20260722T213000
DTSTAMP:20260421T170920
CREATED:20260412T185150Z
LAST-MODIFIED:20260421T080102Z
UID:5169-1784743200-1784755800@tea-tavern.com
SUMMARY:Gongfu Tea Tasting at HeatSync Labs
DESCRIPTION:Take a tea break from your hardware\, software or maker work with the Traveling Tea Tavern! Gather round and learn the art of Gongfu tea.
URL:https://tea-tavern.com/event/gongfu-tea-tasting-at-heatsync-labs-66/
LOCATION:HeatSync Labs\, 108 West Main Street\, Mesa\, AZ\, 85201\, United States
CATEGORIES:Tea Tavern Events
ATTACH;FMTTYPE=image/jpeg:https://tea-tavern.com/wp-content/uploads/2026/02/cfeb64bee65143c318a0605b9d7c11de.jpg
END:VEVENT
BEGIN:VEVENT
DTSTART;TZID=America/Phoenix:20260729T120000
DTEND;TZID=America/Phoenix:20260729T150000
DTSTAMP:20260421T170920
CREATED:20260412T185202Z
LAST-MODIFIED:20260421T080102Z
UID:5170-1785326400-1785337200@tea-tavern.com
SUMMARY:Gongfu Tea Tasting at HeatSync Labs
DESCRIPTION:Take a tea break from your hardware\, software or maker work with the Traveling Tea Tavern! Gather round and learn the art of Gongfu tea.
URL:https://tea-tavern.com/event/gongfu-tea-tasting-at-heatsync-labs-67/
LOCATION:HeatSync Labs\, 108 West Main Street\, Mesa\, AZ\, 85201\, United States
CATEGORIES:Tea Tavern Events
ATTACH;FMTTYPE=image/jpeg:https://tea-tavern.com/wp-content/uploads/2026/02/cfeb64bee65143c318a0605b9d7c11de.jpg
END:VEVENT
BEGIN:VEVENT
DTSTART;TZID=America/Phoenix:20260729T180000
DTEND;TZID=America/Phoenix:20260729T213000
DTSTAMP:20260421T170920
CREATED:20260412T185202Z
LAST-MODIFIED:20260421T080102Z
UID:5171-1785348000-1785360600@tea-tavern.com
SUMMARY:Gongfu Tea Tasting at HeatSync Labs
DESCRIPTION:Take a tea break from your hardware\, software or maker work with the Traveling Tea Tavern! Gather round and learn the art of Gongfu tea.
URL:https://tea-tavern.com/event/gongfu-tea-tasting-at-heatsync-labs-68/
LOCATION:HeatSync Labs\, 108 West Main Street\, Mesa\, AZ\, 85201\, United States
CATEGORIES:Tea Tavern Events
ATTACH;FMTTYPE=image/jpeg:https://tea-tavern.com/wp-content/uploads/2026/02/cfeb64bee65143c318a0605b9d7c11de.jpg
END:VEVENT
END:VCALENDAR